BEGIN:VCALENDAR
VERSION:2.0
CALSCALE:GREGORIAN
BEGIN:VEVENT
SUMMARY:Pilates group on machines all levels
DTSTART;TZID=Europe/Zurich:20251222T121500
DTEND;TZID=Europe/Zurich:20251222T131500
LOCATION:studio
DESCRIPTION: 
STATUS:CONFIRMED
SEQUENCE:0
END:VEVENT
END:VCALENDAR