BEGIN:VCALENDAR
VERSION:2.0
CALSCALE:GREGORIAN
BEGIN:VEVENT
SUMMARY:Pilates Core
DTSTART;TZID=Europe/Copenhagen:20240111T171500
DTEND;TZID=Europe/Copenhagen:20240111T181500
LOCATION:Ølstykke
DESCRIPTION: 
STATUS:CONFIRMED
SEQUENCE:0
END:VEVENT
END:VCALENDAR