BEGIN:VCALENDAR
VERSION:2.0
CALSCALE:GREGORIAN
BEGIN:VEVENT
SUMMARY:Fysiurgisk Massage i Jyllinge
DTSTART;TZID=Europe/Copenhagen:20240719T121500
DTEND;TZID=Europe/Copenhagen:20240719T131500
LOCATION:Østtoften 1. 4040 Jyllinge
DESCRIPTION: Hovedformålet med fysiurgisk massage er at bidrage til at afhjælpe stress og spændinger, som ophobes i kroppens bløde væv under fysisk aktivitet. 
Venligst møde op 10 minutter inden behandlingsstart.
STATUS:CONFIRMED
SEQUENCE:0
END:VEVENT
END:VCALENDAR