BEGIN:VCALENDAR
VERSION:2.0
CALSCALE:GREGORIAN
BEGIN:VEVENT
SUMMARY:Release &amp; Restore PRE-RECORDED
DTSTART;TZID=America/New_York:20260426T160000
DTEND;TZID=America/New_York:20260426T170000
LOCATION:Hidden Haven Yoga
DESCRIPTION: Class begins with a light yoga flow to relieve tightness and create space in mind &amp; body in preparation for restorative practice including 4-5 prop supported yoga poses held for approximately 4-5 minutes each. All of which will lead to greater self-awareness, reduced fatigue and stress, a more balanced nervous system, improve overall healing, and an immunity boost. Appropriate for intermediate and beyond.
STATUS:CONFIRMED
SEQUENCE:0
END:VEVENT
END:VCALENDAR