BEGIN:VCALENDAR
VERSION:2.0
CALSCALE:GREGORIAN
BEGIN:VEVENT
SUMMARY:Lunch time Meditation  - PRERECORDED
DTSTART;TZID=America/New_York:20260511T123000
DTEND;TZID=America/New_York:20260511T124500
LOCATION:Hidden Haven Yoga
DESCRIPTION: Take a little break in the middle of your day to reduce your stress and anxiety.
STATUS:CONFIRMED
SEQUENCE:0
END:VEVENT
END:VCALENDAR