BEGIN:VCALENDAR
VERSION:2.0
CALSCALE:GREGORIAN
BEGIN:VEVENT
SUMMARY:Strength &amp; Stability Yoga LIVE IN STUDIO!
DTSTART;TZID=America/New_York:20260421T160000
DTEND;TZID=America/New_York:20260421T171500
LOCATION:Zoom
DESCRIPTION: 
STATUS:CONFIRMED
SEQUENCE:0
END:VEVENT
END:VCALENDAR