BEGIN:VCALENDAR
VERSION:2.0
CALSCALE:GREGORIAN
BEGIN:VEVENT
SUMMARY:Restorative Funzionale - Tra Azione e Resa
DTSTART;TZID=Europe/Rome:20251127T113000
DTEND;TZID=Europe/Rome:20251127T124500
LOCATION:Online
DESCRIPTION: 
STATUS:CONFIRMED
SEQUENCE:0
END:VEVENT
END:VCALENDAR