BEGIN:VCALENDAR
VERSION:2.0
CALSCALE:GREGORIAN
BEGIN:VEVENT
SUMMARY:LYT Core Flow - Advance
DTSTART;TZID=Europe/Berlin:20260421T191500
DTEND;TZID=Europe/Berlin:20260421T203000
LOCATION:Sulzbach
DESCRIPTION: This class is a step up in speed and intensity level from our LYT primary class. Following the same LYT blueprint, it is for those who love to sweat, warm the body through core-integrated movement, and explore the addition of plyometrics in almost every flow. Detail to alignment makes this a fun introduction to some of the more complicated postures and arm balances.

Note: 
participants who wish to take part in this class are required to have attended the LYT Fundamentals class or have experienced LYT yoga practice.
STATUS:CONFIRMED
SEQUENCE:0
END:VEVENT
END:VCALENDAR