BEGIN:VCALENDAR
VERSION:2.0
CALSCALE:GREGORIAN
BEGIN:VEVENT
SUMMARY:Goodmorning yoga (45 min)
DTSTART;TZID=Europe/Amsterdam:20260117T090000
DTEND;TZID=Europe/Amsterdam:20260117T094500
LOCATION:Albardastraat 25, neem de linker hoofdingang (KC Koos Meindertsschool), en ga rechts op de begane grond
DESCRIPTION: Een gebalanceerde yin &amp; yang les waarin actieve en rustige houdingen elkaar afwisselen. Je wordt wakker in je lijf, bouwt kracht en mobiliteit op en eindigt met ruimte om te landen. Een fijne start van je dag: energiek &amp; rustig.
Kleed je warm aan, ik heb liever dat je laagjes uit kan trekken dan dat je het te koud hebt.
STATUS:CONFIRMED
SEQUENCE:0
END:VEVENT
END:VCALENDAR