BEGIN:VCALENDAR
VERSION:2.0
CALSCALE:GREGORIAN
BEGIN:VEVENT
SUMMARY:Poweryoga Nes (60 min)
DTSTART;TZID=Europe/Amsterdam:20260504T180000
DTEND;TZID=Europe/Amsterdam:20260504T190000
LOCATION:Fysiotherapie Ameland
DESCRIPTION: Een dynamische en krachtige yogales waarin beweging en ademhaling samenkomen in een vloeiende flow. In deze les werken we aan kracht, flexibiliteit en balans. Het is de perfecte manier om je hoofd leeg te maken door je lichaam uit te dagen en je energie weer te laten stromen.

Verwacht een actieve les waarbij je hartslag omhoog gaat, maar we eindigen natuurlijk altijd met een heerlijke ontspanning.

Praktische informatie:

Kleding: Draag comfortabele sportkleding waarin je makkelijk kunt bewegen.

Materiaal: Matjes zijn aanwezig, maar neem gerust je eigen mat of een handdoek mee als je dat prettiger vindt.

Tijd: Graag uiterlijk 5 minuten voor aanvang van de les aanwezig zijn; daarna gaat de voordeur van de fysio dicht zodat we ongestoord kunnen beginnen.

Ik zie je graag op de mat!
STATUS:CONFIRMED
SEQUENCE:0
END:VEVENT
END:VCALENDAR