BEGIN:VCALENDAR
VERSION:2.0
CALSCALE:GREGORIAN
BEGIN:VEVENT
SUMMARY:Hatha Rustig
DTSTART;TZID=Europe/Amsterdam:20251121T091500
DTEND;TZID=Europe/Amsterdam:20251121T101500
LOCATION:Good Vibez
DESCRIPTION: Verken houdingen in een rustig tempo, met aandacht voor ademhaling, houding en flexibiliteit. Geschikt voor alle leeftijden, ideaal voor herstel na blessures maar ook voor mensen die op zoek zijn naar rust en ontspanning.
STATUS:CONFIRMED
SEQUENCE:0
END:VEVENT
END:VCALENDAR