BEGIN:VCALENDAR
VERSION:2.0
CALSCALE:GREGORIAN
BEGIN:VEVENT
SUMMARY:Zie &#039;Evenementen&#039; voor alle leuke dingen die er te doen zijn.
DTSTART;TZID=Europe/Amsterdam:20251119T070000
DTEND;TZID=Europe/Amsterdam:20251119T080000
LOCATION:Good Vibez
DESCRIPTION: 
STATUS:CONFIRMED
SEQUENCE:0
END:VEVENT
END:VCALENDAR