BEGIN:VCALENDAR
VERSION:2.0
CALSCALE:GREGORIAN
BEGIN:VEVENT
SUMMARY:Vinyasa of Hatha stijl yogales
DTSTART;TZID=Europe/Amsterdam:20220516T200000
DTEND;TZID=Europe/Amsterdam:20220516T213000
LOCATION:Huizerhoogt
DESCRIPTION: Vinyasa- of een rustiger Hathastijl, soms gecombineerd met Yin houdingen aan het einde van de les, met een beperkte hoeveelheid matjes. Heb je geen plekje in de studio kunnen bemachtigen of komt het gewoon beter uit? Tijdens de les kan er een camera draaien, zodat je de les vanaf Zoom thuis kunt volgen. Geef je dan hieronder op voor de Zoomles.
STATUS:CONFIRMED
SEQUENCE:0
END:VEVENT
END:VCALENDAR