BEGIN:VCALENDAR
VERSION:2.0
CALSCALE:GREGORIAN
BEGIN:VEVENT
SUMMARY:Yin yogales
DTSTART;TZID=Europe/Amsterdam:20220408T084500
DTEND;TZID=Europe/Amsterdam:20220408T100000
LOCATION:Huizerhoogt
DESCRIPTION: In verband met mijn opleiding Yin yogadocent, geef ik om de week op vrijdagochtenden Yin yogales.
STATUS:CONFIRMED
SEQUENCE:0
END:VEVENT
END:VCALENDAR