BEGIN:VCALENDAR
VERSION:2.0
CALSCALE:GREGORIAN
BEGIN:VEVENT
SUMMARY:Stretch en Relax of Yin Yoga
DTSTART;TZID=Europe/Amsterdam:20230120T090000
DTEND;TZID=Europe/Amsterdam:20230120T101500
LOCATION:Huizerhoogt
DESCRIPTION: Yogahoudingen worden langere tijd aangehouden voor diepe ontspanning en extra effect op het bindweefsel. De lessen worden gegeven door Ronald. Circa 1x per maand geeft Christine deze les Yin Yoga.
STATUS:CONFIRMED
SEQUENCE:0
END:VEVENT
END:VCALENDAR