BEGIN:VCALENDAR
VERSION:2.0
CALSCALE:GREGORIAN
BEGIN:VEVENT
SUMMARY:Workshop Yin Yoga &amp; Yoga Nidra
DTSTART;TZID=Europe/Amsterdam:20190617T194500
DTEND;TZID=Europe/Amsterdam:20190617T214500
LOCATION:Boechout
DESCRIPTION: 
STATUS:CONFIRMED
SEQUENCE:0
END:VEVENT
END:VCALENDAR