BEGIN:VCALENDAR
VERSION:2.0
CALSCALE:GREGORIAN
BEGIN:VEVENT
SUMMARY:Ashtanga Vinyasa based morning class
DTSTART;TZID=Europe/Dublin:20260328T093000
DTEND;TZID=Europe/Dublin:20260328T104500
LOCATION:The Old Schoolhouse, Delgany, Co. Wicklow
DESCRIPTION: A morning dynamic practice to energise the body, build strength and mobility, and focus the mind for the day ahead. Inspired by the Ashtanga Vinyasa Primary Series, with options from more advanced postures, the flow links movement and breath to both uplift the body and bring calm clarity to the mind. Variations are offered throughout, so you can choose the level of challenge that feels right for you. The class closes with a grounding Savasana, leaving you centred, calm, and energised for whatever the day brings.
STATUS:CONFIRMED
SEQUENCE:0
END:VEVENT
END:VCALENDAR