BEGIN:VCALENDAR
VERSION:2.0
CALSCALE:GREGORIAN
BEGIN:VEVENT
SUMMARY:***Please email info@greystonesyoga.ie if Zoom link not received***
DTSTART;TZID=Europe/Dublin:20260322T085000
DTEND;TZID=Europe/Dublin:20260322T090000
LOCATION:Zoom
DESCRIPTION: 
STATUS:CONFIRMED
SEQUENCE:0
END:VEVENT
END:VCALENDAR