BEGIN:VCALENDAR
VERSION:2.0
CALSCALE:GREGORIAN
BEGIN:VEVENT
SUMMARY:Full moon closed group ⭕️ (monthly meeting)
DTSTART;TZID=Europe/London:20260427T180000
DTEND;TZID=Europe/London:20260427T193000
LOCATION:Grow Yoga, 3 The Artisans Yard, Dyson Place
DESCRIPTION: Welcome to our monthly Full Moon Closed Group — a women’s circle devoted to honouring the cycles of nature, connecting with the body, and gathering in familiar community.

Each month we meet in rhythm with the Moon, using simple, therapeutic practices to explore the emotional, energetic and cyclical landscape that lunar phases can illuminate.

Our practices may include gentle movement, sound therapy, Yoga Nidra, meditation, journalling and oracle cards — always shaped by the specific energy of that month’s Moon.

I receive astrological guidance from Pippa Kate Astrology when planning these circles, working with both Vedic and Sidereal systems to inform the themes we explore together.

This is a longer, more spacious session — usually between 90 minutes and two hours — giving us time to arrive, connect, practice deeply and enjoy the sense of community that builds within this closed group over time.

As with all of our closed groups, this space is rooted in consistency and familiar community.

Closed groups now run in a six month membership format, to allow consistency and familiarity to build over time and honour our values of community building.

This group runs on the last Monday of each month, 18.00-19.30.
STATUS:CONFIRMED
SEQUENCE:0
END:VEVENT
END:VCALENDAR