BEGIN:VCALENDAR
VERSION:2.0
CALSCALE:GREGORIAN
BEGIN:VEVENT
SUMMARY:*WORKSHOP* Hips, Hamstrings, Splits and Sound Bath
DTSTART;TZID=Europe/London:20220305T140000
DTEND;TZID=Europe/London:20220305T160000
LOCATION:PilaYoga (The Marlow Club)
DESCRIPTION: 
STATUS:CONFIRMED
SEQUENCE:0
END:VEVENT
END:VCALENDAR