BEGIN:VCALENDAR
VERSION:2.0
CALSCALE:GREGORIAN
BEGIN:VEVENT
SUMMARY:Rejoignez-nous au Né Ho Centre; Le temple  du bien-être et de la santé ! Le 3 Avril 2025 de 18h30 à 19h30
DTSTART;TZID=Europe/Paris:20250403T183000
DTEND;TZID=Europe/Paris:20250403T193000
LOCATION:98, Rue Samuel Champlain 17600 Le Gua
DESCRIPTION: Grâce à la pratique du yoga, Le corps se pose et se redresse, Les muscles s&#039;allongent, Les articulations retrouvent leur axe naturel et leur mobilité, Corps et esprit gagne en force et équilibre.
Se sentir ancré en conscience Là et tout le bénéfice du yoga. Une discipline qui permet de s&#039;enraciner De créer une base solide À partir de laquelle se développe ouverture liberté et joie. 
J&#039;ai hâte de vous accueillir sur vos tapis !
Le cours d&#039;initiation est proposé à 5 €.
 Vous êtes libre d&#039;apporter vos tapis et vos coussins de méditation, mais si vous n&#039;en possédez pas encore, je mets à votre disposition des tapis et des briques.

N&#039;oubliez pas d&#039;apporter un plaid pour le moment de relaxation, afin de vous couvrir. En effet, la température du corps peut descendre durant la séance
STATUS:CONFIRMED
SEQUENCE:0
END:VEVENT
END:VCALENDAR