BEGIN:VCALENDAR
VERSION:2.0
CALSCALE:GREGORIAN
BEGIN:VEVENT
SUMMARY:Hatha Yoga pour tous en plein air boutique et bar à huîtres.Cocollos
DTSTART;TZID=Europe/Paris:20250812T181500
DTEND;TZID=Europe/Paris:20250812T190000
LOCATION:Route de la pointe, Route du Viaduc, 17560 Bourcefranc-le-Chapus, France
DESCRIPTION: 
STATUS:CONFIRMED
SEQUENCE:0
END:VEVENT
END:VCALENDAR