BEGIN:VCALENDAR
VERSION:2.0
CALSCALE:GREGORIAN
BEGIN:VEVENT
SUMMARY:Yin
DTSTART;TZID=Europe/Paris:20231019T190000
DTEND;TZID=Europe/Paris:20231019T200000
LOCATION:Hagavik Yoga
DESCRIPTION: - Rolig time
- Holder stillingene lenge
- Bruk av bolster (pute) for å støtte opp kroppen i ulike stillinger.
STATUS:CONFIRMED
SEQUENCE:0
END:VEVENT
END:VCALENDAR