BEGIN:VCALENDAR
VERSION:2.0
CALSCALE:GREGORIAN
BEGIN:VEVENT
SUMMARY:Introduksjon til Vinyasa, Hatha og Rolig Flyt
DTSTART;TZID=Europe/Paris:20230211T100000
DTEND;TZID=Europe/Paris:20230211T120000
LOCATION:Hagavik Yoga
DESCRIPTION: Prøv ut de ulike typene yoga Hagavik Yoga tilbyr. 
Vi stater med en introduksjon, før vi vil gjøre 20 minutt av hver type yoga. Vi får også tid til en god, lang avspenning. Det blir servert TE og grønn smoothie etter økten.
STATUS:CONFIRMED
SEQUENCE:0
END:VEVENT
END:VCALENDAR