BEGIN:VCALENDAR
VERSION:2.0
CALSCALE:GREGORIAN
BEGIN:VEVENT
SUMMARY:Flyt
DTSTART;TZID=Europe/Paris:20230930T100000
DTEND;TZID=Europe/Paris:20230930T110000
LOCATION:Hagavik Yoga
DESCRIPTION: Rolig time med både sittende og stående stillinger. Fokus på pust og tilstedeværelse. Timen avsluttes med avspenning.
STATUS:CONFIRMED
SEQUENCE:0
END:VEVENT
END:VCALENDAR