BEGIN:VCALENDAR
VERSION:2.0
CALSCALE:GREGORIAN
BEGIN:VEVENT
SUMMARY:Inner Essence Touch Opleiding
DTSTART;TZID=Europe/Brussels:20260404T100000
DTEND;TZID=Europe/Brussels:20260404T160000
LOCATION:Kasteelstraat 21B, Lichtervelde
DESCRIPTION: Enkel voor wie aangemeld is voor deze opleiding
STATUS:CONFIRMED
SEQUENCE:0
END:VEVENT
END:VCALENDAR