BEGIN:VCALENDAR
VERSION:2.0
CALSCALE:GREGORIAN
BEGIN:VEVENT
SUMMARY:Workshop Smudge op oude wijze bij Yoga Salvat Ichtegem
DTSTART;TZID=Europe/Brussels:20260523T140000
DTEND;TZID=Europe/Brussels:20260523T163000
LOCATION:Yoga salvat, Moerdijkstraat 14, 8480 Ichtegem
DESCRIPTION: Yoga Salvat en Zuiveraar slaan de handen in elkaar en organiseren een fijne namiddag waar we samenkomen om mee te reizen in de heerlijk, geurende en magische wereld van smudging. 

In deze workshop wordt je wegwijs gemaakt in dit eeuwen oude gebruik van kruiden, geur en rook, met als missie dat wij dit terug kunnen toepassen in ons dagelijks leven, door ons te herinneren, te ondersteunen of te beschermen. We maken kennis met bepaalde krachtige kruiden, waar we ook mee te werk gaan : hoe start je jouw smeulend vuur traditioneel op? Hoe en wanneer in te zetten? Hoe veilig te gebruiken? De kruidenmix mag jezelf samenstellen uit je gevoel en ook krijg je jouw smudge zakje mee naar huis. 

Wil jij je ook laten onderdompelen, je laten inspireren, ontdekken, verbinden en plezier beleven? Voel je van harte WELKOM
STATUS:CONFIRMED
SEQUENCE:0
END:VEVENT
END:VCALENDAR