BEGIN:VCALENDAR
VERSION:2.0
CALSCALE:GREGORIAN
BEGIN:VEVENT
SUMMARY:Power Yoga
DTSTART;TZID=Europe/Stockholm:20260518T180000
DTEND;TZID=Europe/Stockholm:20260518T190000
LOCATION:Hälsohaket
DESCRIPTION: En yogaklass med lite snabbare flöde och extra fokus på styrka.
Passar både för dig som yogat tidigare eller är nybörjare.
Klassen avslutas med en guidad meditation eller avslappningsövning.
STATUS:CONFIRMED
SEQUENCE:0
END:VEVENT
END:VCALENDAR