BEGIN:VCALENDAR
VERSION:2.0
CALSCALE:GREGORIAN
BEGIN:VEVENT
SUMMARY:Lyon - Gym Séniors
DTSTART;TZID=Europe/Paris:20250708T144500
DTEND;TZID=Europe/Paris:20250708T154500
LOCATION:Ecole de danse PetitsPas, 10 Rue Coste, 69300 Caluire-et-Cuire
DESCRIPTION: Lyon, Cours d Activités Physiques Adaptées pour les Séniors, de 1H, à l Ecole de danse PetitsPas. 
- Tenue confortable recommandée pour la pratique
- Pensez à prendre de quoi vous hydrater
- Débutants vous êtes les bienvenus !

* Tarif Solidaire et étudiants possible sur présentation d un justificatif
STATUS:CONFIRMED
SEQUENCE:0
END:VEVENT
END:VCALENDAR