BEGIN:VCALENDAR
VERSION:2.0
CALSCALE:GREGORIAN
BEGIN:VEVENT
SUMMARY:Yoga Doux, avec chaise I en visio 💻
DTSTART;TZID=Europe/Paris:20250818T103000
DTEND;TZID=Europe/Paris:20250818T113000
LOCATION:En ligne
DESCRIPTION: Grenoble, Cours de Yoga Doux, avec chaise, de 1H, par visioconférence. Cours ouvert à tous et également adapté pour les personnes Séniores. 
- Tenue confortable recommandée
- Débutants vous êtes les bienvenus !
- Le matériel est fourni

* Tarif Solidaire et Etudiants possible sur présentation d un justificatif
STATUS:CONFIRMED
SEQUENCE:0
END:VEVENT
END:VCALENDAR