BEGIN:VCALENDAR
VERSION:2.0
CALSCALE:GREGORIAN
BEGIN:VEVENT
SUMMARY:Grenoble - Yoga Doux, avec chaise
DTSTART;TZID=Europe/Paris:20250811T103000
DTEND;TZID=Europe/Paris:20250811T113000
LOCATION:Omsajya, 23 bis Rue Moyrand, 38100 Grenoble
DESCRIPTION: Grenoble, Cours de Yoga Doux, avec chaise, de 1H. Cours ouvert à tous et également adapté pour les personnes Séniores. 
- Tenue confortable recommandée
- Débutants vous êtes les bienvenus !
- Le matériel est fourni

* Tarif Solidaire et Etudiants possible sur présentation d un justificatif
STATUS:CONFIRMED
SEQUENCE:0
END:VEVENT
END:VCALENDAR