BEGIN:VCALENDAR
VERSION:2.0
CALSCALE:GREGORIAN
BEGIN:VEVENT
SUMMARY:Grenoble - Yoga Yang to yin  I Réservations
DTSTART;TZID=Europe/Paris:20251101T112000
DTEND;TZID=Europe/Paris:20251101T123000
LOCATION:Omsajya, 23 bis rue Moyrand
DESCRIPTION: Grenoble, cours de yoga combinant Hatha et Vinyasa, de 1H, pour la fin de journée
- Tenue confortable recommandée
- Penser à prendre quoi vous hydrater
- Débutants vous êtes les bienvenus !

* Tarif Solidaire et Etudiants possible sur présentation d un justificatif
STATUS:CONFIRMED
SEQUENCE:0
END:VEVENT
END:VCALENDAR