BEGIN:VCALENDAR
VERSION:2.0
CALSCALE:GREGORIAN
BEGIN:VEVENT
SUMMARY:Restorative yoga
DTSTART;TZID=Europe/Brussels:20260212T190500
DTEND;TZID=Europe/Brussels:20260212T200500
LOCATION:Medisch Thuis Borgtstraat 1, 2430 Laakdal
DESCRIPTION: Restorative yoga is pure verwennerij voor je lichaam en geest. Je ligt comfortabel ondersteund in houdingen die je uitnodigen om volledig te ontspannen. 

Door middel van ademhalingstechnieken gaan we de geest kalmeren en dieper in een staat van ontspanning komen. Geen actie, enkel diepe rust.

Ideaal voor wie herstellende is, leeft met stress, chronische spanningen of gewoon behoefte heeft aan een rustmoment dat écht deugd doet.

- Kalmerend voor zenuwstelsel en geest
- Ondersteunend bij herstel en pijn
- Verbetert slaap en immuniteit

Geen enkele ervaring nodig.
Alle materialen zijn aanwezig. Breng zelf 2 dekentjes en eventueel een kussen mee naar de les.

Je kan 10 min. voor de les binnen langs de linker zijdeur van het gebouw om je plekje uit te kiezen. 

Je betaalt de les ter plaatse met je beurtenkaart, payconiq of cash.

Prijzen:
Proefles €10
Losse les €14
5 beurten €70
10 beurten €130
20 beurten €240

Annuleren? Kan tot 8u voor de les gratis. Anders wordt de les wel aangerekend.

Heel welkom 🤗
STATUS:CONFIRMED
SEQUENCE:0
END:VEVENT
END:VCALENDAR