BEGIN:VCALENDAR
VERSION:2.0
CALSCALE:GREGORIAN
BEGIN:VEVENT
SUMMARY:Ouder-Kind-Zomercirkel ☀️🌞☀️
DTSTART;TZID=Europe/Brussels:20260614T140000
DTEND;TZID=Europe/Brussels:20260614T153000
LOCATION:Medisch Thuis Borgtstraat 1, 2430 Laakdal
DESCRIPTION: ✨Ouder-Kind-Seizoenscirkels✨

De ouder-kind-seizoenscirkels zijn verbindende momenten tussen ouder en kind waar samen gezellig verbinden, los van alles en iedereen, centraal staat. Door te werken vanuit een seizoensgebonden verhaal, zachte flowende yoga, creatieve verwerking en vooral vertrouwen en plezier, ondersteun ik jullie tijdens deze échte connectie tussen ouder en kind. Laagdrempelig proeven van een buitenschools aanbod op zondagnamiddag, in een klein groepje? Dan ben je welkom om dit mooie moment te komen beleven. 💛

🌱Voor wie? Ouder en kind in duo (leeftijd 3 tot 8 jaar)
🌱Wanneer? Zon 19/04 (lentecirkel) en/of zon 14/06 (zomercirkel), telkens van 14u tot 15.30u.
🌱Min. 5 duo&#039;s - Max. 7 duo&#039;s.
🌱Prijs: 42 euro / cirkel, inclusief materialen en lekkers tussendoor.

Na de inschrijving krijg je een mailtje om een voorschot te betalen om je inschrijving te bevestigen.

Je kan binnenkomen langs de linkerzijdeur van het gebouw.
Kom op tijd om een plekje uit te kiezen.

Hee welkom! 
Liesl
STATUS:CONFIRMED
SEQUENCE:0
END:VEVENT
END:VCALENDAR