BEGIN:VCALENDAR
VERSION:2.0
CALSCALE:GREGORIAN
BEGIN:VEVENT
SUMMARY:Vinyasa Yin/Yang con Chiara
DTSTART;TZID=Europe/Madrid:20241220T190000
DTEND;TZID=Europe/Madrid:20241220T201500
LOCATION:Céspedes 16A
DESCRIPTION: Clase excepcional
STATUS:CONFIRMED
SEQUENCE:0
END:VEVENT
END:VCALENDAR