BEGIN:VCALENDAR
VERSION:2.0
CALSCALE:GREGORIAN
BEGIN:VEVENT
SUMMARY:Yoga Easy Flow - all levels - in studio and recorded.
DTSTART;TZID=Australia/Brisbane:20250624T180000
DTEND;TZID=Australia/Brisbane:20250624T190000
LOCATION:16 Queensport Rd South, Murarrie
DESCRIPTION: Please email jane@havenyogameditation for access to the recording.
STATUS:CONFIRMED
SEQUENCE:0
END:VEVENT
END:VCALENDAR