BEGIN:VCALENDAR
VERSION:2.0
CALSCALE:GREGORIAN
BEGIN:VEVENT
SUMMARY:Autumnal Yoga Flow
DTSTART;TZID=Europe/London:20241119T191500
DTEND;TZID=Europe/London:20241119T201500
LOCATION:Boulder Central,  Unit 4, Richmond Street South,  West Bromwich,  West Midlands,  B70 0DG
DESCRIPTION: I would love to invite you to join me on the mat and into a journey of exploring balance, and mobility with our happy vibe Yoga Flow classes. Whether you are a seasoned yogi or a beginner, my classes offer a cheerful blend of movement, energetic flow, strength, and mobility to nourish your body, mind, and soul.
The hour will Include a combination of slow to dynamic flow, moving with the seasons designed to awaken your body&#039;s energy, enhance your focus, and deepen your connection to yourself and to the present moment.
STATUS:CONFIRMED
SEQUENCE:0
END:VEVENT
END:VCALENDAR