BEGIN:VCALENDAR
VERSION:2.0
CALSCALE:GREGORIAN
BEGIN:VEVENT
SUMMARY:BeweegKansen Gennep
DTSTART;TZID=Europe/Amsterdam:20210915T200500
DTEND;TZID=Europe/Amsterdam:20210915T210500
LOCATION:Gennep, Pr. Irenestraat 23
DESCRIPTION: 
STATUS:CONFIRMED
SEQUENCE:0
END:VEVENT
END:VCALENDAR