BEGIN:VCALENDAR
VERSION:2.0
CALSCALE:GREGORIAN
BEGIN:VEVENT
SUMMARY:Natuurlijk Bewegen De Stappert
DTSTART;TZID=Europe/Amsterdam:20210906T084500
DTEND;TZID=Europe/Amsterdam:20210906T094500
LOCATION:Sporthal de Stappert
DESCRIPTION: Deze lessen werken we aan houding, kracht en balans vanuit verschillende invalshoeken. O.a. Nutritious Movement, Genius of Flexibility en MovNat.
STATUS:CONFIRMED
SEQUENCE:0
END:VEVENT
END:VCALENDAR