BEGIN:VCALENDAR
VERSION:2.0
CALSCALE:GREGORIAN
BEGIN:VEVENT
SUMMARY:Studenten Studiefit ONLINE
DTSTART;TZID=Europe/Amsterdam:20210707T130000
DTEND;TZID=Europe/Amsterdam:20210707T133000
LOCATION:online
DESCRIPTION: Kijk voor meer informatie op mijn Wat krijg je voor € 3,00 in 30 minuten?
- De eerste 15 minuten ervaar je bewegingen die je aan je bureau kunt maken, terwijl je studeert of een college volgt.
- Het tweede kwartier is gericht op o.a. kracht en balans, waarbij het hele lichaam wordt gebruikt. Ik geef je aanwijzingen, waardoor je meer van je spieren en gewrichten gaat gebruiken.

website. 
Of bel of app naar 06 400 64 724. 
Mailen kan naar hethelendehuis@ziggo.nl
STATUS:CONFIRMED
SEQUENCE:0
END:VEVENT
END:VCALENDAR