BEGIN:VCALENDAR
VERSION:2.0
CALSCALE:GREGORIAN
BEGIN:VEVENT
SUMMARY:Sylvia&#039;s Hathá Experience
DTSTART;TZID=Europe/Amsterdam:20260103T104500
DTEND;TZID=Europe/Amsterdam:20260103T114500
LOCATION:Oliemolenstraat 60 Heerlen
DESCRIPTION: (Her)verbinden met jouw natuurlijke zijn. Met dat wat er is. Dát is wat mij drijft in het begeleiden van een yogales. 

In mijn yogales verweef ik telkens een thema. Vaak laat ik me inspireren door de natuur, zoals de symboliek van een berg of een bloem, het voelen van de wind, of het ritme van de seizoenen. Elke les zoek ik de balans tussen rust en kracht: houdingen vloeien dynamisch in elkaar over op het ritme van de adem, met ruimte voor momenten van verstilling. Door het verbinden van allerlei facetten in lichaam, geest en adem ontstaat meer bewustzijn. Van daaruit nodig ik je - gelinkt aan het thema - uit tot verkenning van jouw eigen zijn, jouw eigen ruimte, en wat er in jou beweegt.
STATUS:CONFIRMED
SEQUENCE:0
END:VEVENT
END:VCALENDAR