BEGIN:VCALENDAR
VERSION:2.0
CALSCALE:GREGORIAN
BEGIN:VEVENT
SUMMARY:Hatha Yogales door Remini, ipv 26 januari
DTSTART;TZID=Europe/Amsterdam:20230130T183000
DTEND;TZID=Europe/Amsterdam:20230130T200000
LOCATION:Oude Dordsedijk 21 Klazienaveen
DESCRIPTION: 
STATUS:CONFIRMED
SEQUENCE:0
END:VEVENT
END:VCALENDAR