BEGIN:VCALENDAR
VERSION:2.0
CALSCALE:GREGORIAN
BEGIN:VEVENT
SUMMARY:Yogamix
DTSTART;TZID=Europe/Oslo:20220418T183000
DTEND;TZID=Europe/Oslo:20220418T194500
LOCATION:Hibnes Yoga
DESCRIPTION: En klasse hvor vi kombinerer myke strekker og enkel styrke. Rolig flyt som passer alle enten du har gjort yoga fra før eller en ny.
STATUS:CONFIRMED
SEQUENCE:0
END:VEVENT
END:VCALENDAR