BEGIN:VCALENDAR
VERSION:2.0
CALSCALE:GREGORIAN
BEGIN:VEVENT
SUMMARY:Kurs: Ny på yoga
DTSTART;TZID=Europe/Oslo:20221004T173000
DTEND;TZID=Europe/Oslo:20221004T183000
LOCATION:Hibnes Yoga
DESCRIPTION: 8 ukers kurs for deg som aldri har gjort yoga.
Du får en grundig innføring i de vanligste yogastillingene og pust. 
Varighet 60 min
Varmt velkommen!
* Minimum 5 påmeldte
STATUS:CONFIRMED
SEQUENCE:0
END:VEVENT
END:VCALENDAR