BEGIN:VCALENDAR
VERSION:2.0
CALSCALE:GREGORIAN
BEGIN:VEVENT
SUMMARY:Yoga for egenomsorg
DTSTART;TZID=Europe/Oslo:20221106T170000
DTEND;TZID=Europe/Oslo:20221106T190000
LOCATION:Hibnes Yoga
DESCRIPTION: Vi starter med rolig yoga og gode strekker. Etterhvert går vi over til hvilende/restorative stillinger. 
Til slutt avslutter vi med en lang og god avspenning. 

Hensikten med klassen er å finne ro og hvile, senke pulsen og stresse helt ned. 

Pris: 350,-

Varmt velkommen!
STATUS:CONFIRMED
SEQUENCE:0
END:VEVENT
END:VCALENDAR