BEGIN:VCALENDAR
VERSION:2.0
CALSCALE:GREGORIAN
BEGIN:VEVENT
SUMMARY:Ingen yoga den här veckan pga utbildning
DTSTART;TZID=Europe/Stockholm:20211122T122000
DTEND;TZID=Europe/Stockholm:20211122T132000
LOCATION:Kornetten
DESCRIPTION: 
STATUS:CONFIRMED
SEQUENCE:0
END:VEVENT
END:VCALENDAR