BEGIN:VCALENDAR
VERSION:2.0
CALSCALE:GREGORIAN
BEGIN:VEVENT
SUMMARY:Kurs: Restorative Yoga &amp; Meditation
DTSTART;TZID=Europe/Stockholm:20211030T104500
DTEND;TZID=Europe/Stockholm:20211030T121500
LOCATION:Kornetten
DESCRIPTION: 
STATUS:CONFIRMED
SEQUENCE:0
END:VEVENT
END:VCALENDAR