BEGIN:VCALENDAR
VERSION:2.0
CALSCALE:GREGORIAN
BEGIN:VEVENT
SUMMARY:Extrainsatt: Dharma Flow 75 min
DTSTART;TZID=Europe/Stockholm:20220205T091500
DTEND;TZID=Europe/Stockholm:20220205T103000
LOCATION:Kornetten
DESCRIPTION: Tyvärr fick vi ställa in retreatet som skulle varit den här helgen. Så då kör vi Dharma istället🤗.

Dharma kan översättas med Potential eller Syfte. I den här kursen utforskar vi lekfullt kroppens potential genom att variera positionerna mer än i Yoga Flow och Poweryoga. Uppvärmda av solhälsningar tar vi klossar, band, väggen och varandra till hjälp för att fördjupa positionerna. Inte genom att övergöra någonting, snarare genom  att lyssna inåt och koncentrera kraft och avslappning till rätt ställen.
STATUS:CONFIRMED
SEQUENCE:0
END:VEVENT
END:VCALENDAR