BEGIN:VCALENDAR
VERSION:2.0
CALSCALE:GREGORIAN
BEGIN:VEVENT
SUMMARY:Inställd pga färre än 3 bokade - Lomma - Warm YinYang 60
DTSTART;TZID=Europe/Stockholm:20220810T100000
DTEND;TZID=Europe/Stockholm:20220810T110000
LOCATION:Lomma
DESCRIPTION: I den här klassen kombinerar vi stående, sittande och liggande positioner med andningsövningar och medveten närvaro. Inga solhälsningar. Kroppen stärks och sinnet fokuseras. Behagliga 34 grader. För ALLA.
STATUS:CONFIRMED
SEQUENCE:0
END:VEVENT
END:VCALENDAR