BEGIN:VCALENDAR
VERSION:2.0
CALSCALE:GREGORIAN
BEGIN:VEVENT
SUMMARY:Kurs: Yoga Play Barn+Vuxen
DTSTART;TZID=Europe/Stockholm:20220501T110000
DTEND;TZID=Europe/Stockholm:20220501T120000
LOCATION:Lomma
DESCRIPTION: På begäran: 5 tillfällen där barn + vuxen gör yoga i par. Lekfulla yogapositioner med inslag av acroyoga, massage och guidad avslappning. Barn gör inte som vi säger, de gör som vi gör😁. En värdefull stund. Salen är behagligt uppvärmd till ca 27 grader. Passar barn 6-10 år.
5 tillfällen: 3/4, 24/4, 1/5 (obs! 11.00), 8/5, 15/5
STATUS:CONFIRMED
SEQUENCE:0
END:VEVENT
END:VCALENDAR